BEGIN:VCALENDAR
VERSION:2.0
PRODID:-//Endurance 97-1//NONSGML kigkonsult.se iCalcreator 2.41.92//
CALSCALE:GREGORIAN
METHOD:PUBLISH
UID:39373136-3630-4631-b738-363337303431
X-WR-CALNAME:iCagenda
X-WR-CALDESC:Event Management Extension for Joomla!
X-WR-RELCALID:3E26604A-50F4-4449-8B3E-E4F4932D05B5
X-WR-TIMEZONE:America/Guadeloupe
BEGIN:VTIMEZONE
TZID:America/Guadeloupe
BEGIN:STANDARD
TZNAME:AST
DTSTART:20230807T040000
TZOFFSETFROM:+0000
TZOFFSETTO:-0400
END:STANDARD
END:VTIMEZONE
BEGIN:VEVENT
UID:64313930-6335-4566-a337-646532613662
DTSTAMP:20260421T090327Z
CATEGORIES:compétition
CLASS:PUBLIC
DESCRIPTION:
DTSTART:20250508T100000Z
DTEND:20250508T160000Z
GEO:00;0
LOCATION:
ORGANIZER:
SEQUENCE:1
SUMMARY:Les Foulées de la Caisse Locale du Crédit Agricole de Miquel
TRANSP:OPAQUE
URL:https://www.endurance97-1.com/evenements/evenements-passes/13-les-foule
 es-de-la-caisse-locale-du-credit-agricole-de-miquel.html
END:VEVENT
END:VCALENDAR
