BEGIN:VCALENDAR
VERSION:2.0
PRODID:-//Endurance 97-1//NONSGML kigkonsult.se iCalcreator 2.41.92//
CALSCALE:GREGORIAN
METHOD:PUBLISH
UID:33396436-3034-4339-a534-333661663139
X-WR-CALNAME:iCagenda
X-WR-CALDESC:Event Management Extension for Joomla!
X-WR-RELCALID:3E26604A-50F4-4449-8B3E-E4F4932D05B5
X-WR-TIMEZONE:America/Guadeloupe
BEGIN:VTIMEZONE
TZID:America/Guadeloupe
BEGIN:STANDARD
TZNAME:AST
DTSTART:20230823T040000
TZOFFSETFROM:+0000
TZOFFSETTO:-0400
END:STANDARD
END:VTIMEZONE
BEGIN:VEVENT
UID:35626438-6566-4061-b836-646532616231
DTSTAMP:20260421T103551Z
CATEGORIES:compétition
CLASS:PUBLIC
DESCRIPTION:
DTSTART:20250524T200000Z
DTEND:20250524T200000Z
GEO:00;0
LOCATION:Bld de l'amitié et des peuples de la caraibes pointe a pitre\, 971
 10
ORGANIZER:
SEQUENCE:1
SUMMARY:Les Foulées Lapwent 2025
TRANSP:OPAQUE
URL:https://www.endurance97-1.com/evenements/evenements-passes/25-les-foule
 es-lapwent-2025/2025-05-24-16-00.html
END:VEVENT
END:VCALENDAR
